Package: wiggleplotr Version: 1.18.0 Command: chmod a+r wiggleplotr -R && C:\Users\biocbuild\bbs-3.14-bioc\R\bin\R.exe CMD build --keep-empty-dirs --no-resave-data wiggleplotr StartedAt: 2022-04-12 15:13:02 -0400 (Tue, 12 Apr 2022) EndedAt: 2022-04-12 15:14:36 -0400 (Tue, 12 Apr 2022) EllapsedTime: 94.0 seconds RetCode: 0 Status: OK PackageFile: wiggleplotr_1.18.0.tar.gz PackageFileSize: 166.8 KiB