Package: seqTools Version: 1.28.0 Command: /Library/Frameworks/R.framework/Resources/bin/R CMD build --keep-empty-dirs --no-resave-data seqTools StartedAt: 2022-04-12 08:55:17 -0400 (Tue, 12 Apr 2022) EndedAt: 2022-04-12 08:55:52 -0400 (Tue, 12 Apr 2022) EllapsedTime: 34.9 seconds RetCode: 0 Status: OK PackageFile: seqTools_1.28.0.tar.gz PackageFileSize: 432.5 KiB