Package: scCB2 Version: 1.4.0 Command: rm -rf scCB2.buildbin-libdir && mkdir scCB2.buildbin-libdir && /Users/biocbuild/BBS/utils/build-universal.sh scCB2_1.4.0.tar.gz /Library/Frameworks/R.framework/Resources/bin/R scCB2.buildbin-libdir StartedAt: 2022-04-12 21:26:24 -0400 (Tue, 12 Apr 2022) EndedAt: 2022-04-12 21:27:24 -0400 (Tue, 12 Apr 2022) EllapsedTime: 59.9 seconds RetCode: 0 Status: OK PackageFile: scCB2_1.4.0.tgz PackageFileSize: 882.3 KiB