Package: sampleClassifier Version: 1.18.0 Command: /Library/Frameworks/R.framework/Resources/bin/R CMD check --install=check:sampleClassifier.install-out.txt --library=/Library/Frameworks/R.framework/Resources/library --no-vignettes --timings sampleClassifier_1.18.0.tar.gz StartedAt: 2022-04-12 18:00:29 -0400 (Tue, 12 Apr 2022) EndedAt: 2022-04-12 18:06:39 -0400 (Tue, 12 Apr 2022) EllapsedTime: 369.8 seconds RetCode: 0 Status: OK CheckDir: sampleClassifier.Rcheck Warnings: 0