Package: sSeq Version: 1.32.0 Command: rm -rf sSeq.buildbin-libdir && mkdir sSeq.buildbin-libdir && /Users/biocbuild/BBS/utils/build-universal.sh sSeq_1.32.0.tar.gz /Library/Frameworks/R.framework/Resources/bin/R sSeq.buildbin-libdir StartedAt: 2022-04-12 21:33:50 -0400 (Tue, 12 Apr 2022) EndedAt: 2022-04-12 21:33:57 -0400 (Tue, 12 Apr 2022) EllapsedTime: 7.3 seconds RetCode: 0 Status: OK PackageFile: sSeq_1.32.0.tgz PackageFileSize: 4.328 MiB