Package: pengls Version: 1.0.0 Command: /home/biocbuild/bbs-3.14-bioc/R/bin/R CMD build --keep-empty-dirs --no-resave-data pengls StartedAt: 2022-04-12 05:22:31 -0400 (Tue, 12 Apr 2022) EndedAt: 2022-04-12 05:23:15 -0400 (Tue, 12 Apr 2022) EllapsedTime: 43.6 seconds RetCode: 0 Status: OK PackageFile: pengls_1.0.0.tar.gz PackageFileSize: 51.84 KiB