Package: panp Version: 1.64.0 Command: /Library/Frameworks/R.framework/Resources/bin/R CMD build --keep-empty-dirs --no-resave-data panp StartedAt: 2022-04-12 07:43:18 -0400 (Tue, 12 Apr 2022) EndedAt: 2022-04-12 07:43:55 -0400 (Tue, 12 Apr 2022) EllapsedTime: 36.3 seconds RetCode: 0 Status: OK PackageFile: panp_1.64.0.tar.gz PackageFileSize: 546.9 KiB