Package: orthogene Version: 1.0.2 Command: /Library/Frameworks/R.framework/Resources/bin/R CMD INSTALL orthogene StartedAt: 2022-04-12 04:30:39 -0400 (Tue, 12 Apr 2022) EndedAt: 2022-04-12 04:30:56 -0400 (Tue, 12 Apr 2022) EllapsedTime: 16.4 seconds RetCode: 0 Status: OK