git_url: https://git.bioconductor.org/packages/nullranges git_branch: RELEASE_3_14 git_last_commit: c94c0c1 git_last_commit_date: 2021-11-05 22:37:05 -0400 (Fri, 05 Nov 2021) Package: nullranges Version: 1.0.1 Maintainer: Michael Love MaintainerEmail: michaelisaiahlove at gmail.com