Package: metavizr Version: 1.18.0 Command: rm -rf metavizr.buildbin-libdir && mkdir metavizr.buildbin-libdir && /Users/biocbuild/BBS/utils/build-universal.sh metavizr_1.18.0.tar.gz /Library/Frameworks/R.framework/Resources/bin/R metavizr.buildbin-libdir StartedAt: 2022-04-12 21:00:13 -0400 (Tue, 12 Apr 2022) EndedAt: 2022-04-12 21:01:50 -0400 (Tue, 12 Apr 2022) EllapsedTime: 96.7 seconds RetCode: 0 Status: OK PackageFile: metavizr_1.18.0.tgz PackageFileSize: 2.394 MiB