Package: mAPKL Version: 1.24.0 Command: /Library/Frameworks/R.framework/Resources/bin/R CMD INSTALL mAPKL StartedAt: 2022-04-12 03:32:18 -0400 (Tue, 12 Apr 2022) EndedAt: 2022-04-12 03:33:00 -0400 (Tue, 12 Apr 2022) EllapsedTime: 41.8 seconds RetCode: 0 Status: OK