git_url: https://git.bioconductor.org/packages/lmdme git_branch: RELEASE_3_14 git_last_commit: e9e4b97 git_last_commit_date: 2021-10-26 12:04:24 -0400 (Tue, 26 Oct 2021) Package: lmdme Version: 1.36.0 Maintainer: Cristobal Fresno MaintainerEmail: cfresno at bdmg.com.ar