Package: infinityFlow Version: 1.4.0 Command: chmod a+r infinityFlow -R && C:\Users\biocbuild\bbs-3.14-bioc\R\bin\R.exe CMD build --keep-empty-dirs --no-resave-data infinityFlow StartedAt: 2022-04-12 11:29:27 -0400 (Tue, 12 Apr 2022) EndedAt: 2022-04-12 11:35:38 -0400 (Tue, 12 Apr 2022) EllapsedTime: 370.8 seconds RetCode: 0 Status: OK PackageFile: infinityFlow_1.4.0.tar.gz PackageFileSize: 1.709 MiB