Package: globaltest Version: 5.48.0 Command: rm -rf globaltest.buildbin-libdir && mkdir globaltest.buildbin-libdir && /Users/biocbuild/BBS/utils/build-universal.sh globaltest_5.48.0.tar.gz /Library/Frameworks/R.framework/Resources/bin/R globaltest.buildbin-libdir StartedAt: 2022-04-12 20:48:50 -0400 (Tue, 12 Apr 2022) EndedAt: 2022-04-12 20:49:38 -0400 (Tue, 12 Apr 2022) EllapsedTime: 47.9 seconds RetCode: 0 Status: OK PackageFile: globaltest_5.48.0.tgz PackageFileSize: 1.123 MiB