Package: decompTumor2Sig Version: 2.10.0 Command: /home/biocbuild/bbs-3.14-bioc/R/bin/R CMD build --keep-empty-dirs --no-resave-data decompTumor2Sig StartedAt: 2022-04-12 04:20:00 -0400 (Tue, 12 Apr 2022) EndedAt: 2022-04-12 04:24:18 -0400 (Tue, 12 Apr 2022) EllapsedTime: 258.6 seconds RetCode: 0 Status: OK PackageFile: decompTumor2Sig_2.10.0.tar.gz PackageFileSize: 2.579 MiB