Package: cola Version: 2.0.0 Command: /home/biocbuild/bbs-3.14-bioc/R/bin/R CMD build --keep-empty-dirs --no-resave-data cola StartedAt: 2022-04-12 04:14:17 -0400 (Tue, 12 Apr 2022) EndedAt: 2022-04-12 04:14:56 -0400 (Tue, 12 Apr 2022) EllapsedTime: 39.3 seconds RetCode: 0 Status: OK PackageFile: cola_2.0.0.tar.gz PackageFileSize: 3.887 MiB