git_url: https://git.bioconductor.org/packages/codelink git_branch: RELEASE_3_14 git_last_commit: c6116c2 git_last_commit_date: 2021-10-26 11:49:04 -0400 (Tue, 26 Oct 2021) Package: codelink Version: 1.62.0 Maintainer: Diego Diez MaintainerEmail: diego10ruiz at gmail.com