Package: chipenrich Version: 2.18.0 Command: rm -rf chipenrich.buildbin-libdir && mkdir chipenrich.buildbin-libdir && /Users/biocbuild/BBS/utils/build-universal.sh chipenrich_2.18.0.tar.gz /Library/Frameworks/R.framework/Resources/bin/R chipenrich.buildbin-libdir StartedAt: 2022-04-12 20:28:04 -0400 (Tue, 12 Apr 2022) EndedAt: 2022-04-12 20:29:12 -0400 (Tue, 12 Apr 2022) EllapsedTime: 68.3 seconds RetCode: 0 Status: OK PackageFile: chipenrich_2.18.0.tgz PackageFileSize: 840.5 KiB