Package: cellmigRation Version: 1.2.0 Command: /Library/Frameworks/R.framework/Resources/bin/R CMD build --keep-empty-dirs --no-resave-data cellmigRation StartedAt: 2022-04-12 05:08:24 -0400 (Tue, 12 Apr 2022) EndedAt: 2022-04-12 05:13:45 -0400 (Tue, 12 Apr 2022) EllapsedTime: 321.0 seconds RetCode: 0 Status: OK PackageFile: cellmigRation_1.2.0.tar.gz PackageFileSize: 1.089 MiB