Package: blacksheepr Version: 1.8.0 Command: /home/biocbuild/bbs-3.14-bioc/R/bin/R CMD build --keep-empty-dirs --no-resave-data blacksheepr StartedAt: 2022-04-12 04:01:03 -0400 (Tue, 12 Apr 2022) EndedAt: 2022-04-12 04:03:03 -0400 (Tue, 12 Apr 2022) EllapsedTime: 120.0 seconds RetCode: 0 Status: OK PackageFile: blacksheepr_1.8.0.tar.gz PackageFileSize: 4.154 MiB