Package: SC3 Version: 1.22.0 Command: /Library/Frameworks/R.framework/Resources/bin/R CMD build --keep-empty-dirs --no-resave-data SC3 StartedAt: 2022-04-12 08:37:34 -0400 (Tue, 12 Apr 2022) EndedAt: 2022-04-12 08:51:20 -0400 (Tue, 12 Apr 2022) EllapsedTime: 825.3 seconds RetCode: 0 Status: OK PackageFile: SC3_1.22.0.tar.gz PackageFileSize: 3.151 MiB