Package: RGMQL Version: 1.14.1 Command: /home/biocbuild/bbs-3.14-bioc/R/bin/R CMD INSTALL RGMQL StartedAt: 2022-04-12 03:38:49 -0400 (Tue, 12 Apr 2022) EndedAt: 2022-04-12 03:39:20 -0400 (Tue, 12 Apr 2022) EllapsedTime: 31.5 seconds RetCode: 0 Status: OK