Package: Qtlizer Version: 1.8.1 Command: /Library/Frameworks/R.framework/Resources/bin/R CMD INSTALL Qtlizer StartedAt: 2022-04-12 03:22:08 -0400 (Tue, 12 Apr 2022) EndedAt: 2022-04-12 03:22:10 -0400 (Tue, 12 Apr 2022) EllapsedTime: 2.9 seconds RetCode: 0 Status: OK