Package: Path2PPI Version: 1.24.0 Command: C:\cygwin\bin\curl.exe -O http://155.52.207.166/BBS/3.14/bioc/src/contrib/Path2PPI_1.24.0.tar.gz && rm -rf Path2PPI.buildbin-libdir && mkdir Path2PPI.buildbin-libdir && C:\Users\biocbuild\bbs-3.14-bioc\R\bin\R.exe CMD INSTALL --merge-multiarch --build --library=Path2PPI.buildbin-libdir Path2PPI_1.24.0.tar.gz && C:\Users\biocbuild\bbs-3.14-bioc\R\bin\R.exe CMD INSTALL Path2PPI_1.24.0.zip && rm Path2PPI_1.24.0.tar.gz Path2PPI_1.24.0.zip StartedAt: 2022-04-12 04:20:37 -0400 (Tue, 12 Apr 2022) EndedAt: 2022-04-12 04:21:23 -0400 (Tue, 12 Apr 2022) EllapsedTime: 46.1 seconds RetCode: 0 Status: OK