Package: PWMEnrich Version: 4.30.0 Command: /Library/Frameworks/R.framework/Resources/bin/R CMD build --keep-empty-dirs --no-resave-data PWMEnrich StartedAt: 2022-04-12 08:09:58 -0400 (Tue, 12 Apr 2022) EndedAt: 2022-04-12 08:12:11 -0400 (Tue, 12 Apr 2022) EllapsedTime: 132.9 seconds RetCode: 0 Status: OK PackageFile: PWMEnrich_4.30.0.tar.gz PackageFileSize: 1.559 MiB