Package: PWMEnrich Version: 4.30.0 Command: rm -rf PWMEnrich.buildbin-libdir && mkdir PWMEnrich.buildbin-libdir && /Users/biocbuild/BBS/utils/build-universal.sh PWMEnrich_4.30.0.tar.gz /Library/Frameworks/R.framework/Resources/bin/R PWMEnrich.buildbin-libdir StartedAt: 2022-04-12 21:16:21 -0400 (Tue, 12 Apr 2022) EndedAt: 2022-04-12 21:16:49 -0400 (Tue, 12 Apr 2022) EllapsedTime: 27.1 seconds RetCode: 0 Status: OK PackageFile: PWMEnrich_4.30.0.tgz PackageFileSize: 1.952 MiB