Package: PECA Version: 1.30.0 Command: rm -rf PECA.buildbin-libdir && mkdir PECA.buildbin-libdir && /Users/biocbuild/BBS/utils/build-universal.sh PECA_1.30.0.tar.gz /Library/Frameworks/R.framework/Resources/bin/R PECA.buildbin-libdir StartedAt: 2022-04-12 21:12:24 -0400 (Tue, 12 Apr 2022) EndedAt: 2022-04-12 21:13:02 -0400 (Tue, 12 Apr 2022) EllapsedTime: 38.5 seconds RetCode: 0 Status: OK PackageFile: PECA_1.30.0.tgz PackageFileSize: 171.6 KiB