Package: MSnbase Version: 2.20.4 Command: /Library/Frameworks/R.framework/Resources/bin/R CMD build --keep-empty-dirs --no-resave-data MSnbase StartedAt: 2022-04-12 07:19:00 -0400 (Tue, 12 Apr 2022) EndedAt: 2022-04-12 07:23:37 -0400 (Tue, 12 Apr 2022) EllapsedTime: 277.0 seconds RetCode: 0 Status: OK PackageFile: MSnbase_2.20.4.tar.gz PackageFileSize: 5.534 MiB