git_url: https://git.bioconductor.org/packages/MSnbase git_branch: RELEASE_3_14 git_last_commit: c86ac8b git_last_commit_date: 2022-01-13 12:09:21 -0400 (Thu, 13 Jan 2022) Package: MSnbase Version: 2.20.4 Maintainer: Laurent Gatto MaintainerEmail: laurent.gatto at uclouvain.be