Package: MSGFgui Version: 1.28.0 Command: /home/biocbuild/bbs-3.14-bioc/R/bin/R CMD check --install=check:MSGFgui.install-out.txt --library=/home/biocbuild/bbs-3.14-bioc/R/library --no-vignettes --timings MSGFgui_1.28.0.tar.gz StartedAt: 2022-04-12 08:22:09 -0400 (Tue, 12 Apr 2022) EndedAt: 2022-04-12 08:23:11 -0400 (Tue, 12 Apr 2022) EllapsedTime: 61.9 seconds RetCode: 0 Status: WARNINGS CheckDir: MSGFgui.Rcheck Warnings: 1