Package: MBASED Version: 1.28.0 Command: rm -rf MBASED.buildbin-libdir && mkdir MBASED.buildbin-libdir && /Users/biocbuild/BBS/utils/build-universal.sh MBASED_1.28.0.tar.gz /Library/Frameworks/R.framework/Resources/bin/R MBASED.buildbin-libdir StartedAt: 2022-04-12 20:58:34 -0400 (Tue, 12 Apr 2022) EndedAt: 2022-04-12 20:59:12 -0400 (Tue, 12 Apr 2022) EllapsedTime: 37.5 seconds RetCode: 0 Status: OK PackageFile: MBASED_1.28.0.tgz PackageFileSize: 466.6 KiB