Package: LymphoSeq Version: 1.22.0 Command: rm -rf LymphoSeq.buildbin-libdir && mkdir LymphoSeq.buildbin-libdir && /Users/biocbuild/BBS/utils/build-universal.sh LymphoSeq_1.22.0.tar.gz /Library/Frameworks/R.framework/Resources/bin/R LymphoSeq.buildbin-libdir StartedAt: 2022-04-12 20:57:20 -0400 (Tue, 12 Apr 2022) EndedAt: 2022-04-12 20:58:00 -0400 (Tue, 12 Apr 2022) EllapsedTime: 39.5 seconds RetCode: 0 Status: OK PackageFile: LymphoSeq_1.22.0.tgz PackageFileSize: 2.061 MiB