Package: GenomicFeatures Version: 1.46.5 Command: /Library/Frameworks/R.framework/Resources/bin/R CMD build --keep-empty-dirs --no-resave-data GenomicFeatures StartedAt: 2022-04-12 06:13:40 -0400 (Tue, 12 Apr 2022) EndedAt: 2022-04-12 06:16:10 -0400 (Tue, 12 Apr 2022) EllapsedTime: 149.1 seconds RetCode: 0 Status: OK PackageFile: GenomicFeatures_1.46.5.tar.gz PackageFileSize: 1.324 MiB