Package: GCSscore Version: 1.8.0 Command: rm -rf GCSscore.buildbin-libdir && mkdir GCSscore.buildbin-libdir && /Users/biocbuild/BBS/utils/build-universal.sh GCSscore_1.8.0.tar.gz /Library/Frameworks/R.framework/Resources/bin/R GCSscore.buildbin-libdir StartedAt: 2022-04-12 20:45:33 -0400 (Tue, 12 Apr 2022) EndedAt: 2022-04-12 20:45:59 -0400 (Tue, 12 Apr 2022) EllapsedTime: 26.5 seconds RetCode: 0 Status: OK PackageFile: GCSscore_1.8.0.tgz PackageFileSize: 4.522 MiB