Package: DynDoc Version: 1.72.0 Command: /home/biocbuild/bbs-3.14-bioc/R/bin/R CMD check --install=check:DynDoc.install-out.txt --library=/home/biocbuild/bbs-3.14-bioc/R/library --no-vignettes --timings DynDoc_1.72.0.tar.gz StartedAt: 2022-04-12 07:16:39 -0400 (Tue, 12 Apr 2022) EndedAt: 2022-04-12 07:16:56 -0400 (Tue, 12 Apr 2022) EllapsedTime: 16.4 seconds RetCode: 0 Status: OK CheckDir: DynDoc.Rcheck Warnings: 0