Package: ConsensusClusterPlus Version: 1.58.0 Command: C:\cygwin\bin\curl.exe -O http://155.52.207.166/BBS/3.14/bioc/src/contrib/ConsensusClusterPlus_1.58.0.tar.gz && rm -rf ConsensusClusterPlus.buildbin-libdir && mkdir ConsensusClusterPlus.buildbin-libdir && C:\Users\biocbuild\bbs-3.14-bioc\R\bin\R.exe CMD INSTALL --merge-multiarch --build --library=ConsensusClusterPlus.buildbin-libdir ConsensusClusterPlus_1.58.0.tar.gz && C:\Users\biocbuild\bbs-3.14-bioc\R\bin\R.exe CMD INSTALL ConsensusClusterPlus_1.58.0.zip && rm ConsensusClusterPlus_1.58.0.tar.gz ConsensusClusterPlus_1.58.0.zip StartedAt: 2022-04-12 04:37:57 -0400 (Tue, 12 Apr 2022) EndedAt: 2022-04-12 04:38:14 -0400 (Tue, 12 Apr 2022) EllapsedTime: 17.8 seconds RetCode: 0 Status: OK