Package: ComplexHeatmap Version: 2.10.0 Command: C:\cygwin\bin\curl.exe -O http://155.52.207.166/BBS/3.14/bioc/src/contrib/ComplexHeatmap_2.10.0.tar.gz && rm -rf ComplexHeatmap.buildbin-libdir && mkdir ComplexHeatmap.buildbin-libdir && C:\Users\biocbuild\bbs-3.14-bioc\R\bin\R.exe CMD INSTALL --merge-multiarch --build --library=ComplexHeatmap.buildbin-libdir ComplexHeatmap_2.10.0.tar.gz && C:\Users\biocbuild\bbs-3.14-bioc\R\bin\R.exe CMD INSTALL ComplexHeatmap_2.10.0.zip && rm ComplexHeatmap_2.10.0.tar.gz ComplexHeatmap_2.10.0.zip StartedAt: 2022-04-12 05:00:57 -0400 (Tue, 12 Apr 2022) EndedAt: 2022-04-12 05:07:03 -0400 (Tue, 12 Apr 2022) EllapsedTime: 365.7 seconds RetCode: 0 Status: OK