Package: ComplexHeatmap Version: 2.10.0 Command: rm -rf ComplexHeatmap.buildbin-libdir && mkdir ComplexHeatmap.buildbin-libdir && C:\Users\biocbuild\bbs-3.14-bioc\R\bin\R.exe CMD INSTALL --merge-multiarch --build --library=ComplexHeatmap.buildbin-libdir ComplexHeatmap_2.10.0.tar.gz StartedAt: 2022-04-13 05:55:54 -0400 (Wed, 13 Apr 2022) EndedAt: 2022-04-13 05:56:51 -0400 (Wed, 13 Apr 2022) EllapsedTime: 56.7 seconds RetCode: 0 Status: OK PackageFile: ComplexHeatmap_2.10.0.zip PackageFileSize: 3.203 MiB