git_url: https://git.bioconductor.org/packages/ClusterJudge git_branch: RELEASE_3_14 git_last_commit: d9af46d git_last_commit_date: 2021-10-26 12:36:23 -0400 (Tue, 26 Oct 2021) Package: ClusterJudge Version: 1.16.0 Maintainer: Adrian Pasculescu MaintainerEmail: a.pasculescu at gmail.com