Package: Clomial Version: 1.30.0 Command: /home/biocbuild/bbs-3.14-bioc/R/bin/R CMD build --keep-empty-dirs --no-resave-data Clomial StartedAt: 2022-04-12 04:12:12 -0400 (Tue, 12 Apr 2022) EndedAt: 2022-04-12 04:12:28 -0400 (Tue, 12 Apr 2022) EllapsedTime: 15.7 seconds RetCode: 0 Status: OK PackageFile: Clomial_1.30.0.tar.gz PackageFileSize: 1.363 MiB