git_url: https://git.bioconductor.org/packages/CancerInSilico git_branch: RELEASE_3_14 git_last_commit: 3ebbb60 git_last_commit_date: 2021-10-26 12:30:27 -0400 (Tue, 26 Oct 2021) Package: CancerInSilico Version: 2.14.0 Maintainer: Thomas D. Sherman MaintainerEmail: tomsherman159 at gmail.com