Package: COMPASS Version: 1.32.0 Command: rm -rf COMPASS.buildbin-libdir && mkdir COMPASS.buildbin-libdir && C:\Users\biocbuild\bbs-3.14-bioc\R\bin\R.exe CMD INSTALL --merge-multiarch --build --library=COMPASS.buildbin-libdir COMPASS_1.32.0.tar.gz StartedAt: 2022-04-13 05:55:38 -0400 (Wed, 13 Apr 2022) EndedAt: 2022-04-13 05:58:09 -0400 (Wed, 13 Apr 2022) EllapsedTime: 151.3 seconds RetCode: 0 Status: OK PackageFile: COMPASS_1.32.0.zip PackageFileSize: 2.141 MiB