Package: COMPASS Version: 1.32.0 Command: /Library/Frameworks/R.framework/Resources/bin/R CMD INSTALL COMPASS StartedAt: 2022-04-12 03:59:31 -0400 (Tue, 12 Apr 2022) EndedAt: 2022-04-12 04:01:16 -0400 (Tue, 12 Apr 2022) EllapsedTime: 105.3 seconds RetCode: 0 Status: OK