Package: CNORfuzzy Version: 1.36.0 Command: /Library/Frameworks/R.framework/Resources/bin/R CMD check --install=check:CNORfuzzy.install-out.txt --library=/Library/Frameworks/R.framework/Resources/library --no-vignettes --timings CNORfuzzy_1.36.0.tar.gz StartedAt: 2022-04-12 11:44:02 -0400 (Tue, 12 Apr 2022) EndedAt: 2022-04-12 11:46:16 -0400 (Tue, 12 Apr 2022) EllapsedTime: 134.5 seconds RetCode: 0 Status: OK CheckDir: CNORfuzzy.Rcheck Warnings: 0