Package: BridgeDbR Version: 2.4.0 Command: /Library/Frameworks/R.framework/Resources/bin/R CMD build --keep-empty-dirs --no-resave-data BridgeDbR StartedAt: 2022-04-12 05:01:42 -0400 (Tue, 12 Apr 2022) EndedAt: 2022-04-12 05:01:54 -0400 (Tue, 12 Apr 2022) EllapsedTime: 11.7 seconds RetCode: 0 Status: OK PackageFile: BridgeDbR_2.4.0.tar.gz PackageFileSize: 2.59 MiB