Package: BiocIO Version: 1.4.0 Command: rm -rf BiocIO.buildbin-libdir && mkdir BiocIO.buildbin-libdir && /Users/biocbuild/BBS/utils/build-universal.sh BiocIO_1.4.0.tar.gz /Library/Frameworks/R.framework/Resources/bin/R BiocIO.buildbin-libdir StartedAt: 2022-04-12 20:22:51 -0400 (Tue, 12 Apr 2022) EndedAt: 2022-04-12 20:23:02 -0400 (Tue, 12 Apr 2022) EllapsedTime: 10.8 seconds RetCode: 0 Status: OK PackageFile: BiocIO_1.4.0.tgz PackageFileSize: 378.9 KiB