Package: BindingSiteFinder Version: 1.0.0 Command: rm -rf BindingSiteFinder.buildbin-libdir && mkdir BindingSiteFinder.buildbin-libdir && /Users/biocbuild/BBS/utils/build-universal.sh BindingSiteFinder_1.0.0.tar.gz /Library/Frameworks/R.framework/Resources/bin/R BindingSiteFinder.buildbin-libdir StartedAt: 2022-04-12 20:22:28 -0400 (Tue, 12 Apr 2022) EndedAt: 2022-04-12 20:23:27 -0400 (Tue, 12 Apr 2022) EllapsedTime: 58.7 seconds RetCode: 0 Status: OK PackageFile: BindingSiteFinder_1.0.0.tgz PackageFileSize: 2.861 MiB