Package: BDMMAcorrect Version: 1.12.0 Command: rm -rf BDMMAcorrect.buildbin-libdir && mkdir BDMMAcorrect.buildbin-libdir && /Users/biocbuild/BBS/utils/build-universal.sh BDMMAcorrect_1.12.0.tar.gz /Library/Frameworks/R.framework/Resources/bin/R BDMMAcorrect.buildbin-libdir StartedAt: 2022-04-12 20:21:30 -0400 (Tue, 12 Apr 2022) EndedAt: 2022-04-12 20:22:54 -0400 (Tue, 12 Apr 2022) EllapsedTime: 84.1 seconds RetCode: 0 Status: OK PackageFile: BDMMAcorrect_1.12.0.tgz PackageFileSize: 516.5 KiB