Package: mAPKLData Version: 1.24.0 Command: /home/biocbuild/bbs-3.13-bioc/R/bin/R CMD check --install=check:mAPKLData.install-out.txt --library=/home/biocbuild/bbs-3.13-bioc/R/library --no-vignettes --timings mAPKLData_1.24.0.tar.gz StartedAt: 2021-10-16 13:29:33 -0400 (Sat, 16 Oct 2021) EndedAt: 2021-10-16 13:29:47 -0400 (Sat, 16 Oct 2021) EllapsedTime: 14.1 seconds RetCode: 0 Status: WARNINGS CheckDir: mAPKLData.Rcheck Warnings: 1