Package: chipenrich.data Version: 2.16.0 Command: /home/biocbuild/bbs-3.13-bioc/R/bin/R CMD INSTALL chipenrich.data StartedAt: 2021-10-16 11:12:24 -0400 (Sat, 16 Oct 2021) EndedAt: 2021-10-16 11:14:30 -0400 (Sat, 16 Oct 2021) EllapsedTime: 126.5 seconds RetCode: 0 Status: OK